BEGIN:VCALENDAR
VERSION:2.0
PRODID:-//Calendar of Events - ECPv6.15.19//NONSGML v1.0//EN
CALSCALE:GREGORIAN
METHOD:PUBLISH
X-WR-CALNAME:Calendar of Events
X-ORIGINAL-URL:https://sites.clarkson.edu/calendar
X-WR-CALDESC:Events for Calendar of Events
REFRESH-INTERVAL;VALUE=DURATION:PT1H
X-Robots-Tag:noindex
X-PUBLISHED-TTL:PT1H
BEGIN:VTIMEZONE
TZID:America/New_York
BEGIN:DAYLIGHT
TZOFFSETFROM:-0500
TZOFFSETTO:-0400
TZNAME:EDT
DTSTART:20250309T070000
END:DAYLIGHT
BEGIN:STANDARD
TZOFFSETFROM:-0400
TZOFFSETTO:-0500
TZNAME:EST
DTSTART:20251102T060000
END:STANDARD
BEGIN:DAYLIGHT
TZOFFSETFROM:-0500
TZOFFSETTO:-0400
TZNAME:EDT
DTSTART:20260308T070000
END:DAYLIGHT
BEGIN:STANDARD
TZOFFSETFROM:-0400
TZOFFSETTO:-0500
TZNAME:EST
DTSTART:20261101T060000
END:STANDARD
BEGIN:DAYLIGHT
TZOFFSETFROM:-0500
TZOFFSETTO:-0400
TZNAME:EDT
DTSTART:20270314T070000
END:DAYLIGHT
BEGIN:STANDARD
TZOFFSETFROM:-0400
TZOFFSETTO:-0500
TZNAME:EST
DTSTART:20271107T060000
END:STANDARD
END:VTIMEZONE
BEGIN:VEVENT
DTSTART;TZID=America/New_York:20260306T120000
DTEND;TZID=America/New_York:20260603T123000
DTSTAMP:20260424T043510
CREATED:20260228T135005Z
LAST-MODIFIED:20260424T060354Z
UID:6803-1772798400-1780489800@sites.clarkson.edu
SUMMARY:Prayer Meeting
DESCRIPTION:We are meeting together to do a workshop to be able to make your personal testimony \nHosted by: Brothers and Sisters in Christ\nAdditional Information can be found at: https://knightlife.clarkson.edu/event/12292822
URL:https://sites.clarkson.edu/calendar/event/prayer-meeting/
LOCATION:Snell 129
CATEGORIES:Spirituality
END:VEVENT
BEGIN:VEVENT
DTSTART;TZID=America/New_York:20260424T100000
DTEND;TZID=America/New_York:20260424T160000
DTSTAMP:20260424T043510
CREATED:20260424T035146Z
LAST-MODIFIED:20260424T060350Z
UID:7443-1777024800-1777046400@sites.clarkson.edu
SUMMARY:Care Basket Fundraiser - Pick Up
DESCRIPTION:Please come by and pick up your care package from 10 AM – 4 PM if you received an email from us!\nHosted by: Society of Women Engineers\nAdditional Information can be found at: https://knightlife.clarkson.edu/event/12441312
URL:https://sites.clarkson.edu/calendar/event/care-basket-fundraiser-pick-up-3/
LOCATION:Student Center Forum
CATEGORIES:Fundraising
END:VEVENT
BEGIN:VEVENT
DTSTART;TZID=America/New_York:20260424T120000
DTEND;TZID=America/New_York:20260424T150000
DTSTAMP:20260424T043510
CREATED:20250905T152549Z
LAST-MODIFIED:20260423T014915Z
UID:1480-1777032000-1777042800@sites.clarkson.edu
SUMMARY:Clarkson Men's Golf vs Liberty League Championships
DESCRIPTION:Clarkson Men’s Golf vs Liberty League Championships
URL:https://sites.clarkson.edu/calendar/event/clarkson-mens-golf-vs-liberty-league-championships/
LOCATION:Verona\, NY (Shenendoah Golf Course)
CATEGORIES:Athletics
END:VEVENT
BEGIN:VEVENT
DTSTART;TZID=America/New_York:20260424T150000
DTEND;TZID=America/New_York:20260424T180000
DTSTAMP:20260424T043510
CREATED:20251119T035033Z
LAST-MODIFIED:20260423T014915Z
UID:4715-1777042800-1777053600@sites.clarkson.edu
SUMMARY:Clarkson Men's Baseball vs St. Lawrence University
DESCRIPTION:Clarkson Men’s Baseball vs St. Lawrence University\nStreaming Video: https://clarksonathletics.com/sports/2018/5/5/clarkson-baseball-from-jack-phillips-stadium.aspx?id=7315
URL:https://sites.clarkson.edu/calendar/event/clarkson-mens-baseball-vs-st-lawrence-university/
LOCATION:Jack Phillips Stadium at Snell Field
CATEGORIES:Athletics
END:VEVENT
BEGIN:VEVENT
DTSTART;TZID=America/New_York:20260424T160000
DTEND;TZID=America/New_York:20260424T190000
DTSTAMP:20260424T043510
CREATED:20260424T035147Z
LAST-MODIFIED:20260424T060350Z
UID:7445-1777046400-1777057200@sites.clarkson.edu
SUMMARY:Clarkson University Math Club: General Body Meeting
DESCRIPTION:Weekly meeting of the Clarkson University Math Club.\nHosted by: Clarkson Math Club\nAdditional Information can be found at: https://knightlife.clarkson.edu/event/12438709
URL:https://sites.clarkson.edu/calendar/event/clarkson-university-math-club-general-body-meeting-28/
LOCATION:Science Center 382
CATEGORIES:Social
END:VEVENT
BEGIN:VEVENT
DTSTART;TZID=America/New_York:20260424T170000
DTEND;TZID=America/New_York:20260424T180000
DTSTAMP:20260424T043510
CREATED:20260207T101337Z
LAST-MODIFIED:20260424T060350Z
UID:6304-1777050000-1777053600@sites.clarkson.edu
SUMMARY:Improv night
DESCRIPTION:Fun night where the audience can pick what happens\nHosted by: Clarkson Theatre Company\nAdditional Information can be found at: https://knightlife.clarkson.edu/event/12204683
URL:https://sites.clarkson.edu/calendar/event/improv-night/
LOCATION:Student Center Forum
CATEGORIES:Arts
END:VEVENT
BEGIN:VEVENT
DTSTART;TZID=America/New_York:20260424T170000
DTEND;TZID=America/New_York:20260424T200000
DTSTAMP:20260424T043510
CREATED:20251119T035034Z
LAST-MODIFIED:20260205T051734Z
UID:4716-1777050000-1777060800@sites.clarkson.edu
SUMMARY:Clarkson Men's Baseball vs St. Lawrence University
DESCRIPTION:Clarkson Men’s Baseball vs St. Lawrence University
URL:https://sites.clarkson.edu/calendar/event/clarkson-mens-baseball-vs-st-lawrence-university-2/
LOCATION:Jack Phillips Stadium at Snell Field
CATEGORIES:Athletics
END:VEVENT
BEGIN:VEVENT
DTSTART;TZID=America/New_York:20260424T173000
DTEND;TZID=America/New_York:20260424T183000
DTSTAMP:20260424T043510
CREATED:20260424T035147Z
LAST-MODIFIED:20260424T060350Z
UID:7444-1777051800-1777055400@sites.clarkson.edu
SUMMARY:Clarkson Martial Arts Club Self Defense Class and Striking
DESCRIPTION:For all skill level! Have fun and work up a sweat learning practical methods to defend yourself. We will be working on basic form and general martial arts\, as well as self defense techniques for a variety of situations. This includes learning how to fall\, do breakaway techniques\, strike\, throw\, and do takedowns. Sparring too for more experienced and willing people with protective gear. Any art is welcome! \nHosted by: Clarkson Martial Arts Club\nAdditional Information can be found at: https://knightlife.clarkson.edu/event/12084140
URL:https://sites.clarkson.edu/calendar/event/clarkson-martial-arts-club-self-defense-class-and-striking-23/
LOCATION:Deneka Fitness Center Aerobics Room
CATEGORIES:Athletics
END:VEVENT
BEGIN:VEVENT
DTSTART;TZID=America/New_York:20260424T180000
DTEND;TZID=America/New_York:20260424T194500
DTSTAMP:20260424T043510
CREATED:20260424T035147Z
LAST-MODIFIED:20260424T060351Z
UID:7446-1777053600-1777059900@sites.clarkson.edu
SUMMARY:Zimbabwean culture & independence celebration day
DESCRIPTION:This event is a celebration of Zimbabwean culture and independence\, organized by the Zimbabwe Clarkson Students Network. It aims to bring together students and the wider campus community to experience and appreciate the rich heritage of Zimbabwe.\nAttendees will have the opportunity to engage with traditional Zimbabwean culture through music\, food\, and performances that highlight our identity and traditions. The event will also serve as a platform to promote cultural diversity\, unity\, and cross-cultural exchange within the Clarkson community.\nHosted by: Office of Access Initiatives\, Zimbabwe Clarkson Students Network\nAdditional Information can be found at: https://knightlife.clarkson.edu/event/12439106
URL:https://sites.clarkson.edu/calendar/event/zimbabwean-culture-independence-celebration-day/
LOCATION:Student Center Forum
CATEGORIES:Cultural
END:VEVENT
BEGIN:VEVENT
DTSTART;TZID=America/New_York:20260424T210000
DTEND;TZID=America/New_York:20260425T030000
DTSTAMP:20260424T043510
CREATED:20260424T035147Z
LAST-MODIFIED:20260424T060351Z
UID:7447-1777064400-1777086000@sites.clarkson.edu
SUMMARY:TKE Open
DESCRIPTION:TKE Open\nHosted by: Tau Kappa Epsilon\nAdditional Information can be found at: https://knightlife.clarkson.edu/event/12438808
URL:https://sites.clarkson.edu/calendar/event/tke-open-5/
LOCATION:Theme House 4
CATEGORIES:Social
END:VEVENT
END:VCALENDAR