BEGIN:VCALENDAR
VERSION:2.0
PRODID:-//Calendar of Events - ECPv6.15.19//NONSGML v1.0//EN
CALSCALE:GREGORIAN
METHOD:PUBLISH
X-WR-CALNAME:Calendar of Events
X-ORIGINAL-URL:https://sites.clarkson.edu/calendar
X-WR-CALDESC:Events for Calendar of Events
REFRESH-INTERVAL;VALUE=DURATION:PT1H
X-Robots-Tag:noindex
X-PUBLISHED-TTL:PT1H
BEGIN:VTIMEZONE
TZID:America/New_York
BEGIN:DAYLIGHT
TZOFFSETFROM:-0500
TZOFFSETTO:-0400
TZNAME:EDT
DTSTART:20250309T070000
END:DAYLIGHT
BEGIN:STANDARD
TZOFFSETFROM:-0400
TZOFFSETTO:-0500
TZNAME:EST
DTSTART:20251102T060000
END:STANDARD
BEGIN:DAYLIGHT
TZOFFSETFROM:-0500
TZOFFSETTO:-0400
TZNAME:EDT
DTSTART:20260308T070000
END:DAYLIGHT
BEGIN:STANDARD
TZOFFSETFROM:-0400
TZOFFSETTO:-0500
TZNAME:EST
DTSTART:20261101T060000
END:STANDARD
BEGIN:DAYLIGHT
TZOFFSETFROM:-0500
TZOFFSETTO:-0400
TZNAME:EDT
DTSTART:20270314T070000
END:DAYLIGHT
BEGIN:STANDARD
TZOFFSETFROM:-0400
TZOFFSETTO:-0500
TZNAME:EST
DTSTART:20271107T060000
END:STANDARD
END:VTIMEZONE
BEGIN:VEVENT
DTSTART;TZID=America/New_York:20260425T180000
DTEND;TZID=America/New_York:20260425T193000
DTSTAMP:20260425T202513
CREATED:20260425T060431Z
LAST-MODIFIED:20260425T060434Z
UID:7529-1777140000-1777145400@sites.clarkson.edu
SUMMARY:Pre-Departure Meeting
DESCRIPTION:We will be reviewing taking vitals and learning more about the culture in Panama before our departure next month. This time will also be used to go over a packing list and answer any questions! \nHosted by: Global Medical Brigade\nAdditional Information can be found at: https://knightlife.clarkson.edu/event/12447825
URL:https://sites.clarkson.edu/calendar/event/pre-departure-meeting/
LOCATION:Snell 212
CATEGORIES:ThoughtfulLearning
END:VEVENT
BEGIN:VEVENT
DTSTART;TZID=America/New_York:20260425T180000
DTEND;TZID=America/New_York:20260425T193000
DTSTAMP:20260425T202513
CREATED:20260425T060432Z
LAST-MODIFIED:20260425T060434Z
UID:7530-1777140000-1777145400@sites.clarkson.edu
SUMMARY:Pre-Departure Meeting
DESCRIPTION:We will be reviewing taking vitals and learning more about the culture in Panama before our departure next month. This time will also be used to go over a packing list and answer any questions! \nHosted by: Global Medical Brigade\nAdditional Information can be found at: https://knightlife.clarkson.edu/event/12447824
URL:https://sites.clarkson.edu/calendar/event/pre-departure-meeting-2/
LOCATION:Snell 212
CATEGORIES:ThoughtfulLearning
END:VEVENT
BEGIN:VEVENT
DTSTART;TZID=America/New_York:20260427T090000
DTEND;TZID=America/New_York:20260427T160000
DTSTAMP:20260425T202513
CREATED:20260424T035206Z
LAST-MODIFIED:20260425T060435Z
UID:7485-1777280400-1777305600@sites.clarkson.edu
SUMMARY:Mental Health First Aid Training
DESCRIPTION:Mental Health First Aid (MHFA) training on a college campus teaches students\, faculty\, and staff how to recognize early signs of mental health or substance-use challenges\, respond with confidence\, and connect someone to appropriate support. It’s not clinical training—rather\, it equips participants with practical skills such as active listening\, de-escalation\, and how to encourage professional help. On campus\, MHFA helps create a safer\, more supportive community by reducing stigma and ensuring that anyone experiencing a crisis can be met with understanding and timely assistance.\n \nSign up by emailing Leah Alestra at lalestra@clarkson.edu in advance. The training is at no-cost to students and $50 for employees. \nHosted by: Office of Student Life\, Student Health and Counseling\nAdditional Information can be found at: https://knightlife.clarkson.edu/event/11944695
URL:https://sites.clarkson.edu/calendar/event/mental-health-first-aid-training-3/
LOCATION:Contact Leah Alestra for location details (lalestra@clarkson.edu)
CATEGORIES:ThoughtfulLearning
END:VEVENT
BEGIN:VEVENT
DTSTART;TZID=America/New_York:20260428T180000
DTEND;TZID=America/New_York:20260428T190000
DTSTAMP:20260425T202513
CREATED:20260424T035207Z
LAST-MODIFIED:20260425T060435Z
UID:7487-1777399200-1777402800@sites.clarkson.edu
SUMMARY:Senior Celebration GBM
DESCRIPTION:Come celebrate fellow Girls Who Code seniors! Each active senior will be receiving a Girls Who Code graduation cord\, and we will be celebrating their Clarkson achievements and future plans! Afterwards\, we will have snacks\, cupcakes\, drinks and can study/chill together one more time before final exams start.. You don’t want to miss it! \nHosted by: Girls Who Code\nAdditional Information can be found at: https://knightlife.clarkson.edu/event/12444239
URL:https://sites.clarkson.edu/calendar/event/senior-celebration-gbm/
LOCATION:Clarkson University
CATEGORIES:ThoughtfulLearning
END:VEVENT
BEGIN:VEVENT
DTSTART;TZID=America/New_York:20260428T180000
DTEND;TZID=America/New_York:20260428T200000
DTSTAMP:20260425T202513
CREATED:20260424T035207Z
LAST-MODIFIED:20260425T060435Z
UID:7488-1777399200-1777406400@sites.clarkson.edu
SUMMARY:Design\, Build\, Fly! - Weekly GBM (SPEED Team)
DESCRIPTION:Come join the Design\, Build\, Fly! (DBF) SPEED team for their weekly general body meeting! DBF is finalizing the design for and then building an RC plane out of composite materials this semester. If you’re interested in anything about this\, anyone is welcome to come and learn how to do this stuff! We have weekly GBM meetings every Tuesday\, 6PM in CAMP 176.\nHosted by: Design – Build – Fly\nAdditional Information can be found at: https://knightlife.clarkson.edu/event/12000308
URL:https://sites.clarkson.edu/calendar/event/design-build-fly-weekly-gbm-speed-team-16/
LOCATION:CAMP 176
CATEGORIES:ThoughtfulLearning
END:VEVENT
END:VCALENDAR